BEGIN:VCALENDAR
VERSION:2.0
PRODID:Events Booking
BEGIN:VEVENT
UID:69e68cab1b75e
SUMMARY:Link & Learn - Carers Weekend
DESCRIPTION:These weekends are open to&nbsp\;carers of people with MND\, in
 cluding our young carers.
 This is a weekend to relax\, revive and connec
 t.
LOCATION:53 Lord St\, Port Macquarie NSW 2444\, Australia
DTSTART:20220917T000000Z
DTEND:20220918T050000Z
DTSTAMP:20220705T164117Z
ORGANIZER;CN=MNDNSW Website - Events:MAILTO:info@mndnsw.org.au
GEO:-31.435464;152.917155
X-APPLE-STRUCTURED-LOCATION;VALUE=URI;X-ADDRESS=53 Lord St\, Port Macquarie
  NSW 2444\, Australia;X-APPLE-RADIUS=72;X-TITLE=Port Macquarie:-31.435464;
 152.917155
END:VEVENT
END:VCALENDAR