BEGIN:VCALENDAR
VERSION:2.0
PRODID:Events Booking
BEGIN:VEVENT
UID:69e67a9d95b08
SUMMARY:Link & Learn - Carers Weekend
DESCRIPTION:These weekends are open to&nbsp\;carers of people with MND\, in
 cluding our young carers.
 This is a weekend to relax\, revive and connec
 t.
LOCATION:Canberra
DTSTART:20221028T230000Z
DTEND:20221030T040000Z
DTSTAMP:20220705T164135Z
ORGANIZER;CN=MNDNSW Website - Events:MAILTO:info@mndnsw.org.au
GEO:-35.281305;149.129199
X-APPLE-STRUCTURED-LOCATION;VALUE=URI;X-ADDRESS=Canberra;X-APPLE-RADIUS=72;
 X-TITLE=Canberra:-35.281305;149.129199
END:VEVENT
END:VCALENDAR