BEGIN:VCALENDAR
VERSION:2.0
PRODID:Events Booking
BEGIN:VEVENT
UID:69e77a415f491
SUMMARY:Introduction to Dementia
DESCRIPTION:This session provides an introduction to dementia\, including a
 n overview of different types of dementia\, diagnosis\, planning ahead and
  how to support someone living with dementia.
 This webinar is provided b
 y Dementia Australia.&nbsp\;
DTSTART:20220901T040000Z
DTEND:20220901T053000Z
DTSTAMP:20220728T184722Z
ORGANIZER;CN=MNDNSW Website - Events:MAILTO:info@mndnsw.org.au
END:VEVENT
END:VCALENDAR