BEGIN:VCALENDAR
VERSION:2.0
PRODID:Events Booking
BEGIN:VEVENT
UID:69e68cb84c4e8
SUMMARY:Grief\, Loss and Dementia
DESCRIPTION:This session provides an overview of the grief\, loss and emoti
 onal impact of the changes caused by dementia.
 This webinar is provided 
 by Dementia Australia.&nbsp\;
DTSTART:20220915T040000Z
DTEND:20220915T053000Z
DTSTAMP:20220728T184956Z
ORGANIZER;CN=MNDNSW Website - Events:MAILTO:info@mndnsw.org.au
END:VEVENT
END:VCALENDAR