BEGIN:VCALENDAR
VERSION:2.0
PRODID:Events Booking
BEGIN:VEVENT
UID:69e679f139954
SUMMARY:Central & Eastern Sydney Support Group 
DESCRIPTION:This is an online group for people who are supported by&nbsp\;M
 ND Advisor Daisy\,&nbsp\;that live in the Eastern Suburbs\, Inner West and
  Southern Suburbs of Sydney.&nbsp\;
DTSTART:20221005T230000Z
DTEND:20221006T000000Z
DTSTAMP:20220731T194121Z
ORGANIZER;CN=MNDNSW Website - Events:MAILTO:info@mndnsw.org.au
END:VEVENT
END:VCALENDAR