BEGIN:VCALENDAR
VERSION:2.0
PRODID:Events Booking
BEGIN:VEVENT
UID:69e79294164ca
SUMMARY:Ten Things to Know Before You Go 
DESCRIPTION:A comprehensive 2-hour online workshop that empowers you with t
 he knowledge and resources you need to plan well for you or your family me
 mber at any life stage.
 This workshop is provided by the Groundswell Pro
 ject.
 &nbsp\;
DTSTART:20220809T000000Z
DTEND:20220809T020000Z
DTSTAMP:20220804T005424Z
ORGANIZER;CN=MNDNSW Website - Events:MAILTO:info@mndnsw.org.au
END:VEVENT
END:VCALENDAR