BEGIN:VCALENDAR
VERSION:2.0
PRODID:Events Booking
BEGIN:VEVENT
UID:69e77a4100853
SUMMARY:Genetic counselling and testing - Research summary from Ashley Croo
 k
DESCRIPTION:This online webinar is being provided by Ashley Crook and is a 
 summary of her findings from her thesis. Ashley is a certified genetic cou
 nsellor and PhD candidate.
 Genetic Counselling &amp\; testing for MND an
 d FTD – Online Webinar
DTSTART:20220928T080000Z
DTEND:20220928T090000Z
DTSTAMP:20220914T192658Z
ORGANIZER;CN=MNDNSW Website - Events:MAILTO:info@mndnsw.org.au
END:VEVENT
END:VCALENDAR