BEGIN:VCALENDAR
VERSION:2.0
PRODID:Events Booking
BEGIN:VEVENT
UID:69e67b0f119a2
SUMMARY:Information session for people recently diagnosed with MND
DESCRIPTION:Have you recently been diagnosed with Motor Neurone Disease?
 
 This online information session explains what MND is and the supports avai
 lable to you and your loved ones.
DTSTART:20221026T050000Z
DTEND:20221026T060000Z
DTSTAMP:20220927T141135Z
ORGANIZER;CN=MNDNSW Website - Events:MAILTO:info@mndnsw.org.au
END:VEVENT
END:VCALENDAR