BEGIN:VCALENDAR
VERSION:2.0
PRODID:Events Booking
BEGIN:VEVENT
UID:69e6219da0639
SUMMARY:Information session for people recently diagnosed with MND 
DESCRIPTION:Have you recently been diagnosed with Motor Neurone Disease?
 
 This online information session explains what MND is and the supports avai
 lable to you and your support network.
DTSTART:20230222T230000Z
DTEND:20230223T000000Z
DTSTAMP:20230201T162749Z
ORGANIZER;CN=MNDNSW Website - Events:MAILTO:info@mndnsw.org.au
END:VEVENT
END:VCALENDAR