BEGIN:VCALENDAR
VERSION:2.0
PRODID:Events Booking
BEGIN:VEVENT
UID:69e61eb9addd7
SUMMARY:Kitchen Table Carer Conversations - Evening Session
DESCRIPTION:Evening session
 The Kitchen Table Carer Conversations is an o
 pportunity to share your experience and to be supported by others who are 
 caring for a loved one living with MND.
DTSTART:20230223T080000Z
DTEND:20230223T090000Z
DTSTAMP:20230207T112852Z
ORGANIZER;CN=MNDNSW Website - Events:MAILTO:info@mndnsw.org.au
END:VEVENT
END:VCALENDAR