BEGIN:VCALENDAR
VERSION:2.0
PRODID:Events Booking
BEGIN:VEVENT
UID:69e5fd5a2d46a
SUMMARY:Information session for people recently diagnosed with MND 
DESCRIPTION:Have you recently been diagnosed with Motor Neurone Disease?
 
 This online information session explains what MND is and the supports avai
 lable to you and your support network.
DTSTART:20230427T000000Z
DTEND:20230427T010000Z
DTSTAMP:20230403T153121Z
ORGANIZER;CN=MNDNSW Website - Events:MAILTO:info@mndnsw.org.au
END:VEVENT
END:VCALENDAR