BEGIN:VCALENDAR
VERSION:2.0
PRODID:Events Booking
BEGIN:VEVENT
UID:69e5ed655ef16
SUMMARY:Chat and Connect - Online MND Support Group
DESCRIPTION:
DTSTART:20230504T010000Z
DTEND:20230504T023000Z
DTSTAMP:20230404T195122Z
ORGANIZER;CN=MNDNSW Website - Events:MAILTO:info@mndnsw.org.au
END:VEVENT
END:VCALENDAR