BEGIN:VCALENDAR
VERSION:2.0
PRODID:Events Booking
BEGIN:VEVENT
UID:69e5bc0dd2029
SUMMARY:Carer Wellbeing Day: Hunter Valley
DESCRIPTION:Carers who are supporting a person living with MND\, including 
 young carers\, are invited to attend our Carer Wellbeing Day in the Hunter
  Valley.&nbsp\;
LOCATION:2090 Broke Road Pokolbin NSW 2320
DTSTART:20230722T000000Z
DTEND:20230722T060000Z
DTSTAMP:20230605T173055Z
ORGANIZER;CN=MNDNSW Website - Events:MAILTO:info@mndnsw.org.au
GEO:-32.773645;151.295566
X-APPLE-STRUCTURED-LOCATION;VALUE=URI;X-ADDRESS=2090 Broke Road Pokolbin NS
 W 2320;X-APPLE-RADIUS=72;X-TITLE=Mercure Hotel Hunter Valley Gardens:-32.7
 73645;151.295566
END:VEVENT
END:VCALENDAR