BEGIN:VCALENDAR
VERSION:2.0
PRODID:Events Booking
BEGIN:VEVENT
UID:69e5a60de773e
SUMMARY:Kitchen Table Carer Conversations - Morning Session
DESCRIPTION:Morning session
 The Kitchen Table Carer Conversations is an o
 pportunity to share your experience and to be supported by others who are 
 caring for a loved one living with MND.
DTSTART:20230817T000000Z
DTEND:20230817T010000Z
DTSTAMP:20230221T165806Z
ORGANIZER;CN=MNDNSW Website - Events:MAILTO:info@mndnsw.org.au
END:VEVENT
END:VCALENDAR