BEGIN:VCALENDAR
VERSION:2.0
PRODID:Events Booking
BEGIN:VEVENT
UID:69e56325baa3c
SUMMARY:MND Upskill for Carers - Campbelltown
DESCRIPTION:This workshop is for formal (paid) and informal (unpaid) carers
  who are supporting a person living with MND.&nbsp\;
LOCATION:Oxley Street\, Camden NSW 2570
DTSTART:20231115T223000Z
DTEND:20231116T050000Z
DTSTAMP:20230924T203803Z
ORGANIZER;CN=MNDNSW Website - Events:MAILTO:info@mndnsw.org.au
GEO:34.0534;150.694
X-APPLE-STRUCTURED-LOCATION;VALUE=URI;X-ADDRESS=Oxley Street\, Camden NSW 2
 570;X-APPLE-RADIUS=72;X-TITLE=Camden Civic Centre:34.0534;150.694
END:VEVENT
END:VCALENDAR