BEGIN:VCALENDAR
VERSION:2.0
PRODID:Events Booking
BEGIN:VEVENT
UID:69e5639da5f43
SUMMARY:MND Upskill for Carers - Wagga Wagga
DESCRIPTION:This workshop is for formal (paid) and informal (unpaid) carers
  who are supporting a person living with MND.&nbsp\;
LOCATION:27 Pearson Street Wagga Wagga
DTSTART:20231128T223000Z
DTEND:20231129T050000Z
DTSTAMP:20230924T203803Z
ORGANIZER;CN=MNDNSW Website - Events:MAILTO:info@mndnsw.org.au
GEO:-35.11922;147.34549
X-APPLE-STRUCTURED-LOCATION;VALUE=URI;X-ADDRESS=27 Pearson Street Wagga Wag
 ga;X-APPLE-RADIUS=72;X-TITLE=Open Mobility:-35.11922;147.34549
END:VEVENT
END:VCALENDAR