BEGIN:VCALENDAR
VERSION:2.0
PRODID:Events Booking
BEGIN:VEVENT
UID:69e520d985048
SUMMARY:MND Upskill for Carers - Newcastle- SOLD OUT
DESCRIPTION:This workshop is for formal (paid) and informal (unpaid) carers
  who are supporting a person living with MND.&nbsp\;
LOCATION:5 Tyrell Street Wallsend
DTSTART:20240220T223000Z
DTEND:20240221T043000Z
DTSTAMP:20230924T203803Z
ORGANIZER;CN=MNDNSW Website - Events:MAILTO:info@mndnsw.org.au
GEO:-32.901545;151.670839
X-APPLE-STRUCTURED-LOCATION;VALUE=URI;X-ADDRESS=5 Tyrell Street Wallsend;X-
 APPLE-RADIUS=72;X-TITLE=Wallsend Diggers:-32.901545;151.670839
END:VEVENT
END:VCALENDAR