BEGIN:VCALENDAR
VERSION:2.0
PRODID:Events Booking
BEGIN:VEVENT
UID:69e5210829c32
SUMMARY:MND Upskill for Carers - Port Macquarie
DESCRIPTION:This workshop is for formal (paid) and informal (unpaid) carers
  who are supporting a person living with MND.&nbsp\;
LOCATION:25 Buller Street\, Port Macquarie NSW 2444
DTSTART:20240206T223000Z
DTEND:20240207T043000Z
DTSTAMP:20230924T203803Z
ORGANIZER;CN=MNDNSW Website - Events:MAILTO:info@mndnsw.org.au
GEO:-31.431277;152.90659
X-APPLE-STRUCTURED-LOCATION;VALUE=URI;X-ADDRESS=25 Buller Street\, Port Mac
 quarie NSW 2444;X-APPLE-RADIUS=72;X-TITLE=The Westport Club:-31.431277;152
 .90659
END:VEVENT
END:VCALENDAR