BEGIN:VCALENDAR
VERSION:2.0
PRODID:Events Booking
BEGIN:VEVENT
UID:69e5210e4280c
SUMMARY:MND Upskill for Carers - Gosford
DESCRIPTION:This workshop is for formal (paid) and informal (unpaid) carers
  who are supporting a person living with MND.&nbsp\;
LOCATION:26 Central Coast Hwy\, West Gosford NSW 2250
DTSTART:20240227T223000Z
DTEND:20240228T043000Z
DTSTAMP:20230924T203803Z
ORGANIZER;CN=MNDNSW Website - Events:MAILTO:info@mndnsw.org.au
GEO:-33.428944;151.321807
X-APPLE-STRUCTURED-LOCATION;VALUE=URI;X-ADDRESS=26 Central Coast Hwy\, West
  Gosford NSW 2250;X-APPLE-RADIUS=72;X-TITLE=Gosford RSL club:-33.428944;15
 1.321807
END:VEVENT
END:VCALENDAR