BEGIN:VCALENDAR
VERSION:2.0
PRODID:Events Booking
BEGIN:VEVENT
UID:69e50a30743fb
SUMMARY:MND Upskill for Carers - Lithgow
DESCRIPTION:This workshop is for formal (paid) and informal (unpaid) carers
  who are supporting a person living with MND.&nbsp\;
LOCATION:3-7 Tank Street Lithgow
DTSTART:20240326T223000Z
DTEND:20240327T043000Z
DTSTAMP:20230924T203803Z
ORGANIZER;CN=MNDNSW Website - Events:MAILTO:info@mndnsw.org.au
GEO:-33.478101;150.1623
X-APPLE-STRUCTURED-LOCATION;VALUE=URI;X-ADDRESS=3-7 Tank Street Lithgow;X-A
 PPLE-RADIUS=72;X-TITLE=Lithgow Workies Club:-33.478101;150.1623
END:VEVENT
END:VCALENDAR