BEGIN:VCALENDAR
VERSION:2.0
PRODID:Events Booking
BEGIN:VEVENT
UID:69e50964da784
SUMMARY:Carer Support: Mindfulness Course
DESCRIPTION:MND NSW Carers are warmly invited to attend an online Mindfulne
 ss Course being hosted by MND Victoria.
DTSTART:20240301T000000Z
DTEND:20240322T004500Z
DTSTAMP:20240211T171816Z
ORGANIZER;CN=MNDNSW Website - Events:MAILTO:info@mndnsw.org.au
END:VEVENT
END:VCALENDAR