BEGIN:VCALENDAR
VERSION:2.0
PRODID:Events Booking
BEGIN:VEVENT
UID:69e4df4c04e9b
SUMMARY:MND Upskill for Carers - Illawarra
DESCRIPTION:This workshop is for formal (paid) and informal (unpaid) carers
  who are supporting a person living with MND.&nbsp\;
LOCATION:Cnr Station St &\, Bong Bong Rd\, Dapto NSW 2530
DTSTART:20240521T233000Z
DTEND:20240522T053000Z
DTSTAMP:20230924T203803Z
ORGANIZER;CN=MNDNSW Website - Events:MAILTO:info@mndnsw.org.au
GEO:-34.493029;150.792874
X-APPLE-STRUCTURED-LOCATION;VALUE=URI;X-ADDRESS=Cnr Station St &\, Bong Bon
 g Rd\, Dapto NSW 2530;X-APPLE-RADIUS=72;X-TITLE=Dapto Leagues Club:-34.493
 029;150.792874
END:VEVENT
END:VCALENDAR