BEGIN:VCALENDAR
VERSION:2.0
PRODID:Events Booking
BEGIN:VEVENT
UID:69e4dfa47ba74
SUMMARY:MND Upskill for Carers - Tamworth
DESCRIPTION:This workshop is for formal (paid) and informal (unpaid) carers
  who are supporting a person living with MND.&nbsp\;
LOCATION:58 Phillip St\, West Tamworth NSW 2340\, Australia
DTSTART:20240514T233000Z
DTEND:20240515T053000Z
DTSTAMP:20230924T203803Z
ORGANIZER;CN=MNDNSW Website - Events:MAILTO:info@mndnsw.org.au
GEO:-31.102436;150.917027
X-APPLE-STRUCTURED-LOCATION;VALUE=URI;X-ADDRESS=58 Phillip St\, West Tamwor
 th NSW 2340\, Australia;X-APPLE-RADIUS=72;X-TITLE=West Tamworth Leagues Cl
 ub:-31.102436;150.917027
END:VEVENT
END:VCALENDAR