BEGIN:VCALENDAR
VERSION:2.0
PRODID:Events Booking
BEGIN:VEVENT
UID:69e4df7fd2c03
SUMMARY:Online Thai Chi for Carers
DESCRIPTION:MND Victoria invites family carers of people who are living wit
 h MND from NSW\, ACT and the NT to a FREE 6 week Thai Chi program.&nbsp\;
DTSTART:20240524T030000Z
DTEND:20240628T034500Z
DTSTAMP:20240422T193919Z
ORGANIZER;CN=MNDNSW Website - Events:MAILTO:info@mndnsw.org.au
END:VEVENT
END:VCALENDAR