BEGIN:VCALENDAR
VERSION:2.0
PRODID:Events Booking
BEGIN:VEVENT
UID:69e4caeb7dcbc
SUMMARY:MND Upskill for Carers - Northern Sydney
DESCRIPTION:This workshop is for formal (paid) and informal (unpaid) carers
  who are supporting a person living with MND.&nbsp\;
LOCATION:88 Evans St\, Freshwater NSW 2096
DTSTART:20240612T233000Z
DTEND:20240613T053000Z
DTSTAMP:20230924T203803Z
ORGANIZER;CN=MNDNSW Website - Events:MAILTO:info@mndnsw.org.au
GEO:-33.779107;151.293235
X-APPLE-STRUCTURED-LOCATION;VALUE=URI;X-ADDRESS=88 Evans St\, Freshwater NS
 W 2096;X-APPLE-RADIUS=72;X-TITLE=Harbord Diggers:-33.779107;151.293235
END:VEVENT
END:VCALENDAR