BEGIN:VCALENDAR
VERSION:2.0
PRODID:Events Booking
BEGIN:VEVENT
UID:69e4caeb7dd58
SUMMARY:MND Upskill for Carers - Tweed Heads
DESCRIPTION:This workshop is for formal (paid) and informal (unpaid) carers
  who are supporting a person living with MND.&nbsp\;
LOCATION:4 Minjungbal Dr
DTSTART:20240625T233000Z
DTEND:20240626T053000Z
DTSTAMP:20230924T203803Z
ORGANIZER;CN=MNDNSW Website - Events:MAILTO:info@mndnsw.org.au
GEO:-28.195794;153.543924
X-APPLE-STRUCTURED-LOCATION;VALUE=URI;X-ADDRESS=4 Minjungbal Dr;X-APPLE-RAD
 IUS=72;X-TITLE=South Tweed Sports Club:-28.195794;153.543924
END:VEVENT
END:VCALENDAR