BEGIN:VCALENDAR
VERSION:2.0
PRODID:Events Booking
BEGIN:VEVENT
UID:69ea3a7aabf9a
SUMMARY:Members’ Christmas Party
DESCRIPTION:Registrations full. Celebrate the start of the festive season w
 ith old friends and new.
LOCATION:117 Ryedale Road
DTSTART:20181201T033000Z
DTEND:20181201T053000Z
DTSTAMP:20260423T152754Z
ORGANIZER;CN=MNDNSW Website - Events:MAILTO:info@mndnsw.org.au
GEO:-33.805088;151.091825
X-APPLE-STRUCTURED-LOCATION;VALUE=URI;X-ADDRESS=117 Ryedale Road;X-APPLE-RA
 DIUS=72;X-TITLE=Ryde Eastwood Leagues Club:-33.805088;151.091825
END:VEVENT
END:VCALENDAR