BEGIN:VCALENDAR
VERSION:2.0
PRODID:Events Booking
BEGIN:VEVENT
UID:69ea4ded7c7db
SUMMARY:4th MND Connect - Melbourne
DESCRIPTION:An interactive forum connecting people impacted with MND with A
 ustralia's leading researchers
LOCATION:Kenneth Myer Building\, 144/30 Royal Parade\, Parkville VIC 3052\,
  Australia
DTSTART:20181109T230000Z
DTEND:20181109T160000Z
DTSTAMP:20260423T165053Z
ORGANIZER;CN=MNDNSW Website - Events:MAILTO:info@mndnsw.org.au
GEO:-37.798256;144.958516
X-APPLE-STRUCTURED-LOCATION;VALUE=URI;X-ADDRESS=Kenneth Myer Building\, 144
 /30 Royal Parade\, Parkville VIC 3052\, Australia;X-APPLE-RADIUS=72;X-TITL
 E=Ian Potter Auditorium - University of Melbourne:-37.798256;144.958516
END:VEVENT
END:VCALENDAR