BEGIN:VCALENDAR
VERSION:2.0
PRODID:Events Booking
BEGIN:VEVENT
UID:69e992040748c
SUMMARY:Ask the Experts Forum
DESCRIPTION:Hear from experts in the fields of MND research and neurology a
 nd to ask questions at this Forum. This is an opportunity for people livin
 g with MND\, their family\, and friends to learn the latest developments i
 n MND.
LOCATION:117 Ryedale Road
DTSTART:20190812T003000Z
DTEND:20190812T050000Z
DTSTAMP:20260423T032908Z
ORGANIZER;CN=MNDNSW Website - Events:MAILTO:info@mndnsw.org.au
GEO:-33.805088;151.091825
X-APPLE-STRUCTURED-LOCATION;VALUE=URI;X-ADDRESS=117 Ryedale Road;X-APPLE-RA
 DIUS=72;X-TITLE=Ryde Eastwood Leagues Club:-33.805088;151.091825
END:VEVENT
END:VCALENDAR