BEGIN:VCALENDAR
VERSION:2.0
PRODID:Events Booking
BEGIN:VEVENT
UID:69ea0c6f139de
SUMMARY:Living well with MND - Orange
DESCRIPTION:This is an informative day for people living with motor neurone
  disease\, their families and friends.
LOCATION:241 Anson St\, Orange NSW 2800\, Australia
DTSTART:20190219T230000Z
DTEND:20190220T040000Z
DTSTAMP:20260423T121127Z
ORGANIZER;CN=MNDNSW Website - Events:MAILTO:info@mndnsw.org.au
GEO:-33.281659;149.099029
X-APPLE-STRUCTURED-LOCATION;VALUE=URI;X-ADDRESS=241 Anson St\, Orange NSW 2
 800\, Australia;X-APPLE-RADIUS=72;X-TITLE=Orange Ex-Services' Club:-33.281
 659;149.099029
END:VEVENT
END:VCALENDAR