BEGIN:VCALENDAR
VERSION:2.0
PRODID:Events Booking
BEGIN:VEVENT
UID:69e9e39f3fc56
SUMMARY:Living well with MND - Newcastle
DESCRIPTION:This is an informative day for people living with motor neurone
  disease\, their families and friends.
LOCATION:5 Lincoln St\, Charlestown NSW 2290\, Australia
DTSTART:20190411T000000Z
DTEND:20190411T050000Z
DTSTAMP:20260423T091719Z
ORGANIZER;CN=MNDNSW Website - Events:MAILTO:info@mndnsw.org.au
GEO:-32.96695;151.692914
X-APPLE-STRUCTURED-LOCATION;VALUE=URI;X-ADDRESS=5 Lincoln St\, Charlestown 
 NSW 2290\, Australia;X-APPLE-RADIUS=72;X-TITLE=Charlestown Bowling Club:-3
 2.96695;151.692914
END:VEVENT
END:VCALENDAR