BEGIN:VCALENDAR
VERSION:2.0
PRODID:Events Booking
BEGIN:VEVENT
UID:69e97d75f3336
SUMMARY:Living well with MND - Berry
DESCRIPTION:This is an informative day for people living with motor neurone
  disease\, their families and friends.
LOCATION:Albert Street\, Berry NSW 2535
DTSTART:20190924T000000Z
DTEND:20190924T050000Z
DTSTAMP:20260423T020125Z
ORGANIZER;CN=MNDNSW Website - Events:MAILTO:info@mndnsw.org.au
END:VEVENT
END:VCALENDAR