BEGIN:VCALENDAR
VERSION:2.0
PRODID:Events Booking
BEGIN:VEVENT
UID:69e9683f8bc47
SUMMARY:Living well with MND - Ryde
DESCRIPTION:This is an informative day for people living with motor neurone
  disease\, their families and friends.
LOCATION:117 Ryedale Road
DTSTART:20191021T230000Z
DTEND:20191022T040000Z
DTSTAMP:20260423T003055Z
ORGANIZER;CN=MNDNSW Website - Events:MAILTO:info@mndnsw.org.au
GEO:-33.805088;151.091825
X-APPLE-STRUCTURED-LOCATION;VALUE=URI;X-ADDRESS=117 Ryedale Road;X-APPLE-RA
 DIUS=72;X-TITLE=Ryde Eastwood Leagues Club:-33.805088;151.091825
END:VEVENT
END:VCALENDAR