BEGIN:VCALENDAR
VERSION:2.0
PRODID:Events Booking
BEGIN:VEVENT
UID:69e9f789dc107
SUMMARY:Past carers lunch
DESCRIPTION:This is a lunch and get together for people who have experience
 d bereavement during the last year.
LOCATION:Building 4\, Gladesville Hospital\, Victoria Rd\, Gladesville NSW 
 2111\, Australia
DTSTART:20190326T010000Z
DTEND:20190326T040000Z
DTSTAMP:20260423T104217Z
ORGANIZER;CN=MNDNSW Website - Events:MAILTO:info@mndnsw.org.au
GEO:-33.840077;151.134265
X-APPLE-STRUCTURED-LOCATION;VALUE=URI;X-ADDRESS=Building 4\, Gladesville Ho
 spital\, Victoria Rd\, Gladesville NSW 2111\, Australia;X-APPLE-RADIUS=72;
 X-TITLE=MND NSW Centre Gladesville:-33.840077;151.134265
END:VEVENT
END:VCALENDAR