BEGIN:VCALENDAR
VERSION:2.0
PRODID:Events Booking
BEGIN:VEVENT
UID:69e953d4c0e17
SUMMARY:Link and Learn - Hunter
DESCRIPTION:A&nbsp\;residential educational workshop held over two days and
  one night for carers of people with motor neurone disease in rural and re
 gional NSW. &nbsp\;
LOCATION:Hermitage Road and Mistletoe Lane\, Pokolbin NSW 2320
DTSTART:20191106T223000Z
DTEND:20191108T043000Z
DTSTAMP:20260422T230348Z
ORGANIZER;CN=MNDNSW Website - Events:MAILTO:info@mndnsw.org.au
GEO:-32.729064;151.256923
X-APPLE-STRUCTURED-LOCATION;VALUE=URI;X-ADDRESS=Hermitage Road and Mistleto
 e Lane\, Pokolbin NSW 2320;X-APPLE-RADIUS=72;X-TITLE=Hunter Valley Resort:
 -32.729064;151.256923
END:VEVENT
END:VCALENDAR