BEGIN:VCALENDAR
VERSION:2.0
PRODID:Events Booking
BEGIN:VEVENT
UID:69e9be0fb757e
SUMMARY:Care for Carers Week 4
DESCRIPTION:Week&nbsp\;4 - It is never too early to attend this informative
  and enjoyable program\, which runs once a week for four weeks - Tuesday&n
 bsp\;14 May\, Tuesday&nbsp\;21 May\, Tuesday&nbsp\;28 May and Tuesday&nbsp
 \;4 June.
LOCATION:Building 4\, Gladesville Hospital\, Victoria Rd\, Gladesville NSW 
 2111\, Australia
DTSTART:20190604T000000Z
DTEND:20190604T053000Z
DTSTAMP:20260423T063703Z
ORGANIZER;CN=MNDNSW Website - Events:MAILTO:info@mndnsw.org.au
GEO:-33.840077;151.134265
X-APPLE-STRUCTURED-LOCATION;VALUE=URI;X-ADDRESS=Building 4\, Gladesville Ho
 spital\, Victoria Rd\, Gladesville NSW 2111\, Australia;X-APPLE-RADIUS=72;
 X-TITLE=MND NSW Centre Gladesville:-33.840077;151.134265
END:VEVENT
END:VCALENDAR