BEGIN:VCALENDAR
VERSION:2.0
PRODID:Events Booking
BEGIN:VEVENT
UID:69e96814930d7
SUMMARY:Celebrating National Carers week morning tea
DESCRIPTION:Come along and celebrate National Carers Week at morning tea.

  We warmly welcome former and current carers of people with MND to attend 
 this gathering.
LOCATION:Yarrara Rd & Ramsay Rd\, Pennant Hills NSW 2120\, Australia
DTSTART:20191010T003000Z
DTEND:20191010T023000Z
DTSTAMP:20260423T003012Z
ORGANIZER;CN=MNDNSW Website - Events:MAILTO:info@mndnsw.org.au
GEO:-33.737823;151.072205
X-APPLE-STRUCTURED-LOCATION;VALUE=URI;X-ADDRESS=Yarrara Rd & Ramsay Rd\, Pe
 nnant Hills NSW 2120\, Australia;X-APPLE-RADIUS=72;X-TITLE=Pennant Hills C
 ommunity Centre:-33.737823;151.072205
END:VEVENT
END:VCALENDAR