BEGIN:VCALENDAR
VERSION:2.0
PRODID:Events Booking
BEGIN:VEVENT
UID:69e9a7b55e161
SUMMARY:Eastern Suburbs Coffee Morning
DESCRIPTION:New - Eastern Suburbs Coffee Morning&nbsp\;for people living wi
 th motor neurone disease\, their family and friends.
LOCATION:32-48 Denison St\, Bondi Junction NSW 2022
DTSTART:20190730T003000Z
DTEND:20190730T023000Z
DTSTAMP:20260423T050141Z
ORGANIZER;CN=MNDNSW Website - Events:MAILTO:info@mndnsw.org.au
GEO:-33.89278;151.245044
X-APPLE-STRUCTURED-LOCATION;VALUE=URI;X-ADDRESS=32-48 Denison St\, Bondi Ju
 nction NSW 2022;X-APPLE-RADIUS=72;X-TITLE=Waverley Library:-33.89278;151.2
 45044
END:VEVENT
END:VCALENDAR