BEGIN:VCALENDAR
VERSION:2.0
PRODID:Events Booking
BEGIN:VEVENT
UID:69e953f88f7db
SUMMARY:Information Evening for people diagnosed with MND - Ballina
DESCRIPTION:If you or someone close to you has been diagnosed with motor ne
 urone disease (MND)\, this evening will provide an opportunity to have som
 e of your questions answered in an informal setting.
LOCATION:65 Lighthouse Parade\, East Ballina NSW 2478
DTSTART:20191111T070000Z
DTEND:20191111T090000Z
DTSTAMP:20260422T230424Z
ORGANIZER;CN=MNDNSW Website - Events:MAILTO:info@mndnsw.org.au
GEO:-28.868073;153.591509
X-APPLE-STRUCTURED-LOCATION;VALUE=URI;X-ADDRESS=65 Lighthouse Parade\, East
  Ballina NSW 2478;X-APPLE-RADIUS=72;X-TITLE=Ballina Surf Club:-28.868073;1
 53.591509
END:VEVENT
END:VCALENDAR