BEGIN:VCALENDAR
VERSION:2.0
PRODID:Events Booking
BEGIN:VEVENT
UID:69e953f81564e
SUMMARY:MND Hope and Remembrance - Ballina
DESCRIPTION:A gathering to honour and celebrate those who have lost their l
 ives to MND.
LOCATION:65 Lighthouse Parade\, East Ballina NSW 2478
DTSTART:20191111T010000Z
DTEND:20191111T040000Z
DTSTAMP:20260422T230424Z
ORGANIZER;CN=MNDNSW Website - Events:MAILTO:info@mndnsw.org.au
GEO:-28.868073;153.591509
X-APPLE-STRUCTURED-LOCATION;VALUE=URI;X-ADDRESS=65 Lighthouse Parade\, East
  Ballina NSW 2478;X-APPLE-RADIUS=72;X-TITLE=Ballina Surf Club:-28.868073;1
 53.591509
END:VEVENT
END:VCALENDAR