BEGIN:VCALENDAR
VERSION:2.0
PRODID:Events Booking
BEGIN:VEVENT
UID:69e97d65f2b02
SUMMARY:MND Chat and Connect Online - daytime
DESCRIPTION:Our team will be online to answer questions and provide informa
 tion to members\, their family and friends. This session will be particula
 rly helpful to people who are newly diagnosed with MND.
DTSTART:20190918T000000Z
DTEND:20190918T010000Z
DTSTAMP:20260423T020109Z
ORGANIZER;CN=MNDNSW Website - Events:MAILTO:info@mndnsw.org.au
END:VEVENT
END:VCALENDAR