BEGIN:VCALENDAR
VERSION:2.0
PRODID:Events Booking
BEGIN:VEVENT
UID:69e97d5ed4ea3
SUMMARY:MND Chat and Connect Online - evening
DESCRIPTION:Our team will be online to answer questions and provide informa
 tion to members\, their family and friends. This session will be particula
 rly helpful to people who are newly diagnosed with MND.
DTSTART:20190918T073000Z
DTEND:20190918T083000Z
DTSTAMP:20260423T020102Z
ORGANIZER;CN=MNDNSW Website - Events:MAILTO:info@mndnsw.org.au
END:VEVENT
END:VCALENDAR