BEGIN:VCALENDAR
VERSION:2.0
PRODID:Events Booking
BEGIN:VEVENT
UID:69e91b5353474
SUMMARY:Living well with MND - Central Coast
DESCRIPTION:This is an informative day for people living with motor neurone
  disease\, their families and friends.
LOCATION:26 Central Coast Hwy\, West Gosford NSW 2250
DTSTART:20200226T230000Z
DTEND:20200227T040000Z
DTSTAMP:20260422T190243Z
ORGANIZER;CN=MNDNSW Website - Events:MAILTO:info@mndnsw.org.au
GEO:-33.428944;151.321807
X-APPLE-STRUCTURED-LOCATION;VALUE=URI;X-ADDRESS=26 Central Coast Hwy\, West
  Gosford NSW 2250;X-APPLE-RADIUS=72;X-TITLE=Gosford RSL club:-33.428944;15
 1.321807
END:VEVENT
END:VCALENDAR