BEGIN:VCALENDAR
VERSION:2.0
PRODID:Events Booking
BEGIN:VEVENT
UID:69e9047c45f09
SUMMARY:Information event - Kogarah *CANCELLED*
DESCRIPTION:If you or someone close to you has been diagnosed with motor ne
 urone disease (MND)\, this evening will provide an opportunity to have som
 e of your questions answered in an informal setting.
DTSTART:20200316T073000Z
DTEND:20200316T090000Z
DTSTAMP:20260422T172516Z
ORGANIZER;CN=MNDNSW Website - Events:MAILTO:info@mndnsw.org.au
END:VEVENT
END:VCALENDAR