BEGIN:VCALENDAR
VERSION:2.0
PRODID:Events Booking
BEGIN:VEVENT
UID:69e89204719fe
SUMMARY:Ask the Experts Forum
DESCRIPTION:Hear from experts in the fields of MND research\, neurology and
  genetics and ask questions at this live online Forum. This is an opportun
 ity for people living with MND\, their family\, and friends to learn the l
 atest developments in MND.
DTSTART:20200805T003000Z
DTEND:20200805T020000Z
DTSTAMP:20260422T091652Z
ORGANIZER;CN=MNDNSW Website - Events:MAILTO:info@mndnsw.org.au
END:VEVENT
END:VCALENDAR