BEGIN:VCALENDAR
VERSION:2.0
PRODID:Events Booking
BEGIN:VEVENT
UID:69e8ed720cd7e
SUMMARY:Online Peer Support for Carers - NDIS
DESCRIPTION:Are you caring for someone with MND? Would you like the opportu
 nity to connect with others for peer support?This afternoon session will b
 e for carers supporting someone who is under the age of 65 and accessing t
 he NDIS.
DTSTART:20200422T040000Z
DTEND:20200422T050000Z
DTSTAMP:20260422T154658Z
ORGANIZER;CN=MNDNSW Website - Events:MAILTO:info@mndnsw.org.au
END:VEVENT
END:VCALENDAR