BEGIN:VCALENDAR
VERSION:2.0
PRODID:Events Booking
BEGIN:VEVENT
UID:69e8effdb6934
SUMMARY:Online Peer Support for Carers - My Aged Care
DESCRIPTION:Are you caring for someone with MND? Would you like the opportu
 nity to connect with others for peer support?&nbsp\;
 This morning sessio
 n will be for carers supporting someone who is over the age of 65 years
DTSTART:20200429T003000Z
DTEND:20200429T013000Z
DTSTAMP:20260422T155749Z
ORGANIZER;CN=MNDNSW Website - Events:MAILTO:info@mndnsw.org.au
END:VEVENT
END:VCALENDAR