BEGIN:VCALENDAR
VERSION:2.0
PRODID:Events Booking
BEGIN:VEVENT
UID:69e8d8833dbeb
SUMMARY:Online Peer Support for Carers - My Aged Care
DESCRIPTION:Are you caring for someone with MND? Would you like the opportu
 nity to connect with others for peer support?
 This morning session will 
 be for carers supporting someone who is over the age of 65 years
DTSTART:20200506T003000Z
DTEND:20200506T013000Z
DTSTAMP:20260422T141739Z
ORGANIZER;CN=MNDNSW Website - Events:MAILTO:info@mndnsw.org.au
END:VEVENT
END:VCALENDAR