BEGIN:VCALENDAR
VERSION:2.0
PRODID:Events Booking
BEGIN:VEVENT
UID:69e8d88d87f46
SUMMARY:Online Peer Support for Carers - NDIS
DESCRIPTION:Are you caring for someone with MND? Would you like the opportu
 nity to connect with others for peer support?
 This morning session will 
 be for carers supporting someone who is under the age of 65 and accessing 
 the NDIS.
DTSTART:20200507T003000Z
DTEND:20200507T013000Z
DTSTAMP:20260422T141749Z
ORGANIZER;CN=MNDNSW Website - Events:MAILTO:info@mndnsw.org.au
END:VEVENT
END:VCALENDAR