BEGIN:VCALENDAR
VERSION:2.0
PRODID:Events Booking
BEGIN:VEVENT
UID:69e8d8833e0d9
SUMMARY:Newcastle and Hunter Online Support Group 
DESCRIPTION:The Newcastle and Hunter Support Group&nbsp\;is going online!

  This is an online group meeting for people who would usually attend suppo
 rt group events in Newcastle with our MND advisor Jess.
DTSTART:20200519T000000Z
DTEND:20200519T010000Z
DTSTAMP:20260422T141739Z
ORGANIZER;CN=MNDNSW Website - Events:MAILTO:info@mndnsw.org.au
END:VEVENT
END:VCALENDAR